BEGIN:VCALENDAR
VERSION:2.0
PRODID:-//wp-events-plugin.com//7.2.3.1//EN
TZID:Europe/Paris
X-WR-TIMEZONE:Europe/Paris
BEGIN:VEVENT
UID:10@sport-montpellier.com
DTSTART;TZID=Europe/Paris:20240504T090000
DTEND;TZID=Europe/Paris:20240505T180000
DTSTAMP:20240427T060056Z
URL:https://www.sport-montpellier.com/events/hapkimudo/
SUMMARY:Hapkimudo
DESCRIPTION:Un stage découverte sur deux journées dirigé par Maitre Lee 
 Kang Jong vous est proposé les 4 et 5 mai.\n\nIl est ouvert à tous le sa
 medi après-midi seulement et pour tous les pratiquants.\n\nInscription ic
 i
ATTACH;FMTTYPE=image/jpeg:https://www.sport-montpellier.com/wp-content/upl
 oads/2024/02/22a8c344-e77c-4ab8-baa2-9f150ef74df3-1.jpg
CATEGORIES:Stages
LOCATION:Collège Camille Claudel\, 60\, avenue d'Assas\, Montpellier\, Hé
 rault\, 34000\, Occitanie\, France
X-APPLE-STRUCTURED-LOCATION;VALUE=URI;X-ADDRESS=60\, avenue d'Assas\, Montp
 ellier\, Hérault\, 34000\, Occitanie\, France;X-APPLE-RADIUS=100;X-TITLE=
 Collège Camille Claudel:geo:0,0
END:VEVENT
BEGIN:VTIMEZONE
TZID:Europe/Paris
X-LIC-LOCATION:Europe/Paris
BEGIN:DAYLIGHT
DTSTART:20240331T030000
TZOFFSETFROM:+0100
TZOFFSETTO:+0200
TZNAME:CEST
END:DAYLIGHT
END:VTIMEZONE
END:VCALENDAR