BEGIN:VCALENDAR
VERSION:2.0
PRODID:-//wp-events-plugin.com//7.2.3.1//EN
TZID:Europe/Paris
X-WR-TIMEZONE:Europe/Paris
BEGIN:VEVENT
UID:9@sport-montpellier.com
DTSTART;TZID=Europe/Paris:20240310T093000
DTEND;TZID=Europe/Paris:20240310T120000
DTSTAMP:20240227T081935Z
URL:https://www.sport-montpellier.com/events/seance-de-coupe-de-bouteille/
SUMMARY:Séance de coupe de bouteille
DESCRIPTION:Un séance de coupe de bouteille vous est proposée le 10 mars 
 2024 au club.\n\nIl faut venir en tenue avec une paire de basket\, des ser
 viettes\, de quoi se couvrir.\n\nLes inscriptions se font au club: 10€
ATTACH;FMTTYPE=image/jpeg:https://www.sport-montpellier.com/wp-content/upl
 oads/2024/02/569875ee-2960-4d1f-8ede-feb7475e9f63-1.jpg
CATEGORIES:Stages
LOCATION:Collège Camille Claudel\, 60\, avenue d'Assas\, Montpellier\, Hé
 rault\, 34000\, Occitanie\, France
X-APPLE-STRUCTURED-LOCATION;VALUE=URI;X-ADDRESS=60\, avenue d'Assas\, Montp
 ellier\, Hérault\, 34000\, Occitanie\, France;X-APPLE-RADIUS=100;X-TITLE=
 Collège Camille Claudel:geo:0,0
END:VEVENT
BEGIN:VTIMEZONE
TZID:Europe/Paris
X-LIC-LOCATION:Europe/Paris
BEGIN:STANDARD
DTSTART:20231029T020000
TZOFFSETFROM:+0200
TZOFFSETTO:+0100
TZNAME:CET
END:STANDARD
END:VTIMEZONE
END:VCALENDAR